BEGIN:VCALENDAR
VERSION:2.0
PRODID:-//Kirkkonummen Komeetta ry - ECPv6.15.17//NONSGML v1.0//EN
CALSCALE:GREGORIAN
METHOD:PUBLISH
X-ORIGINAL-URL:https://www.kirkkonummenkomeetta.fi
X-WR-CALDESC:Tapahtumat Kirkkonummen Komeetta ry
REFRESH-INTERVAL;VALUE=DURATION:PT1H
X-Robots-Tag:noindex
X-PUBLISHED-TTL:PT1H
BEGIN:VTIMEZONE
TZID:Europe/Helsinki
BEGIN:DAYLIGHT
TZOFFSETFROM:+0200
TZOFFSETTO:+0300
TZNAME:EEST
DTSTART:20230326T010000
END:DAYLIGHT
BEGIN:STANDARD
TZOFFSETFROM:+0300
TZOFFSETTO:+0200
TZNAME:EET
DTSTART:20231029T010000
END:STANDARD
BEGIN:DAYLIGHT
TZOFFSETFROM:+0200
TZOFFSETTO:+0300
TZNAME:EEST
DTSTART:20240331T010000
END:DAYLIGHT
BEGIN:STANDARD
TZOFFSETFROM:+0300
TZOFFSETTO:+0200
TZNAME:EET
DTSTART:20241027T010000
END:STANDARD
BEGIN:DAYLIGHT
TZOFFSETFROM:+0200
TZOFFSETTO:+0300
TZNAME:EEST
DTSTART:20250330T010000
END:DAYLIGHT
BEGIN:STANDARD
TZOFFSETFROM:+0300
TZOFFSETTO:+0200
TZNAME:EET
DTSTART:20251026T010000
END:STANDARD
END:VTIMEZONE
BEGIN:VEVENT
DTSTART;TZID=Europe/Helsinki:20241015T180000
DTEND;TZID=Europe/Helsinki:20241015T200000
DTSTAMP:20260419T195405
CREATED:20240728T132407Z
LAST-MODIFIED:20250204T130927Z
UID:676-1729015200-1729022400@www.ursa.fi
SUMMARY:Esitelmä: Kuu paljain silmin\, osa 1
DESCRIPTION:Elokuun superkuu: Anne Wirtanen \n  \nEnnen kaukoputken keksimistä ihmiskunta oli vuosituhansien ajan tutkinut tähtitaivasta ja Kuuta ainoastaan paljaiden silmien avulla. Ilman optisia apuvälineitäkin tehtyjen havaintojen avulla tähtitaivaan liike tunnettiin varsin hyvin. Kuun vaiheita käytettiin ajanlaskussa ja kuukalenterien pohjalla. Myös Kuun rata ja siinä esiintyneet poikkeukset olivat tunnettuja. \nKuun havaitsemisesta paljain silmin riittää nykyajankin ihmiselle paljon opittavaa ja kerrottavaa. Ursan Kuu ja planeetat -harrastusryhmän vastuuaktiivit Paula Wirtanen ja Veikko Mäkelä totesivatkin esitelmää tehdessään aineistoa riittävän peräti kahteen esityskertaan! \nTässä ensimmäisessä osassa keskitytään Kuun rataan ja liikkeisiin. Esitelmässä kerrotaan kuukauden keston määrittelemisestä\, Kuun liikkeestä taivaalla tähdistöstä toiseen\, Kuun vaiheiden esiintymisestä eri vuodenaikoina\, sadonkorjuun ajan täysikuun erityisyydestä sekä syitä siihen\, miksi täysikuu näyttää olevan joskus tavallistakin matalammalla kesätaivaalla. Esitelmässä kerrotaan myös kapeiden kuunsirppien sekä päivätaivaalla olevan Kuun löytämisestä ja sivutaanpa lyhyesti myös superkuuta. \nEsitelmöitsijöistä Veikko Mäkelä on tähtitaivaan tutkimisesta paljain silmin kiinnostunut tähtiharrastuksen moniottelija\, Paula Wirtasen kiinnostuksen kohteiden ollessa Kuu ja planeetat. Kumpikin toimii vastuuaktiivina Ursan Kuu ja planeetat -harrastusryhmässä ja molemmat ovat pitkäaikaisia tähtitieteen t \nKuu paljain silmin\, osa1 diat \nLisätietoa Ursan verkkolehti Zeniitin sivuilta. Verkkolehden artikkelisarja on kolmiosainen ja esitelmäsarja kaksiosainen. Tämän esitelmän asiat käydään läpi seuraavissa artikkeleissa: \nKuu paljain silmin\, osa 1 – Kuun rata\nKuu paljain silmin\, osa 2 – Kuu vaiheesta toiseen     Esitelmäsarjan toinen osa Mörnessä 15.4. 2025
URL:https://www.kirkkonummenkomeetta.fi/event/esitelma-kuu-paljain-silmin/
LOCATION:Fyyri-pääkirjaston Mörne-sali\, Kirkkotori 1\, Kirkkonummi\, 02400\, Finland
CATEGORIES:Esitelmä
ATTACH;FMTTYPE=image/jpeg:https://www.kirkkonummenkomeetta.fi/wp-content/uploads/sites/28/2024/07/Paulan-SuperkuuAnne-Wirtanen-e1724392439393.jpeg
END:VEVENT
END:VCALENDAR