BEGIN:VCALENDAR
VERSION:2.0
PRODID:-//Kirkkonummen Komeetta ry - ECPv6.15.17//NONSGML v1.0//EN
CALSCALE:GREGORIAN
METHOD:PUBLISH
X-WR-CALNAME:Kirkkonummen Komeetta ry
X-ORIGINAL-URL:https://www.kirkkonummenkomeetta.fi
X-WR-CALDESC:Tapahtumat Kirkkonummen Komeetta ry
REFRESH-INTERVAL;VALUE=DURATION:PT1H
X-Robots-Tag:noindex
X-PUBLISHED-TTL:PT1H
BEGIN:VTIMEZONE
TZID:Europe/Helsinki
BEGIN:DAYLIGHT
TZOFFSETFROM:+0200
TZOFFSETTO:+0300
TZNAME:EEST
DTSTART:20230326T010000
END:DAYLIGHT
BEGIN:STANDARD
TZOFFSETFROM:+0300
TZOFFSETTO:+0200
TZNAME:EET
DTSTART:20231029T010000
END:STANDARD
BEGIN:DAYLIGHT
TZOFFSETFROM:+0200
TZOFFSETTO:+0300
TZNAME:EEST
DTSTART:20240331T010000
END:DAYLIGHT
BEGIN:STANDARD
TZOFFSETFROM:+0300
TZOFFSETTO:+0200
TZNAME:EET
DTSTART:20241027T010000
END:STANDARD
BEGIN:DAYLIGHT
TZOFFSETFROM:+0200
TZOFFSETTO:+0300
TZNAME:EEST
DTSTART:20250330T010000
END:DAYLIGHT
BEGIN:STANDARD
TZOFFSETFROM:+0300
TZOFFSETTO:+0200
TZNAME:EET
DTSTART:20251026T010000
END:STANDARD
END:VTIMEZONE
BEGIN:VEVENT
DTSTART;TZID=Europe/Helsinki:20240921T210000
DTEND;TZID=Europe/Helsinki:20240921T223000
DTSTAMP:20260419T153847
CREATED:20240921T094331Z
LAST-MODIFIED:20240921T094457Z
UID:799-1726952400-1726957800@www.ursa.fi
SUMMARY:Tähtiharrastuspäivän tähtinäytäntö
DESCRIPTION:Lauantaina 21.9.2024 on valtakunnallinen tähtiharrastuspäivä. Osana päivän toimintaa Kirkkonummen Komeetta järjestää tähtinäytännön Komakallion tähtitornilla klo 21–22:30. Tutustumme yötaivaan kohteisiin yhdistyksen kaukoputkea apuna käyttäen. Vapaa pääsy. \n 
URL:https://www.kirkkonummenkomeetta.fi/event/tahtiharrastuspaivan-tahtinaytanto/
LOCATION:Komakallion tähtitorni\, Bergvikintie 57\, Kirkkonummi\, 02400\, Finland
CATEGORIES:Tähtinäytös
ATTACH;FMTTYPE=image/jpeg:https://www.kirkkonummenkomeetta.fi/wp-content/uploads/sites/28/2024/01/IMG_2588-Enhanced-NR-e1706211965276.jpg
END:VEVENT
BEGIN:VEVENT
DTSTART;TZID=Europe/Helsinki:20240917T180000
DTEND;TZID=Europe/Helsinki:20240917T180000
DTSTAMP:20260419T153847
CREATED:20240421T111627Z
LAST-MODIFIED:20240925T061027Z
UID:643-1726596000-1726596000@www.ursa.fi
SUMMARY:Esitelmä: Mitä tekoäly on – ja mitä se ei ole
DESCRIPTION:Tekoäly on enenevässä määrin tulossa osaksi meidän kaikkien arkea\, osin näkyvänä ja osin niin\, että emme sitä edes huomaa. Tämän vuoksi onkin tärkeää\, että me kaikki – iästä\, koulutuksesta tai ammatista riippumatta – saamme luotettavaa ja selkeää tietoa tästä kehittyvästä alueesta. \nEsitelmä tarjoaa tekoälyyn kattavan katsauksen\, joka avaa aihetta niin vasta-alkajille kuin asiaan aiemmin perehtyneillekin. Kun tieto tekoälyn perusteista kasvaa\, kasvaa myös ymmärrys sen todellisista mahdollisuuksista ja rajoituksista hälventäen turhaa mystiikkaa ja virheellisiä käsityksiä tekoälystä. \nEsitelmä ei jätä ketään ulkopuolelle\, vaan se käsittelee tekoälyä yhteisenä intressinä. Tekoäly tarjoaa valtavia mahdollisuuksia ja samalla nostaa merkittäviä riskejä\, joita emme vielä täysin hahmota. Siksi onkin viisasta pysyä ajan tasalla tekoälyn kehityksessä sekä valmistautua sen tuomiin haasteisiin ja mahdollisuuksiin. \nTekoäly on joka tapauksessa tulossa rytinällä ja voittajia ovat ne\, jotka osaavat varautua siihen niin hyvässä kuin pahassa. \nTervetuloa mukaan kuuntelemaan\, kysymään ja keskustelemaan! \nAsiasta alustaa tekoälyyn perehtynyt kirkkonummelainen Eino Uikkanen. \nEsityksen materiaali ja paljon muuta tekoälystä: https://www.einouikkanen.fi/AI/\nEino on luvannut myös vastata sähköpostikysymyksiin: eino.uikkanen@iki.fi
URL:https://www.kirkkonummenkomeetta.fi/event/esitelma-tekoaly/
LOCATION:Fyyri-pääkirjaston Mörne-sali\, Kirkkotori 1\, Kirkkonummi\, 02400\, Finland
CATEGORIES:Esitelmä
ATTACH;FMTTYPE=image/png:https://www.kirkkonummenkomeetta.fi/wp-content/uploads/sites/28/2024/04/Eino-Uikkanen-AI-presentation-1920-1080-no-text.png
END:VEVENT
BEGIN:VEVENT
DTSTART;TZID=Europe/Helsinki:20240916T180000
DTEND;TZID=Europe/Helsinki:20240916T200000
DTSTAMP:20260419T153847
CREATED:20240125T210256Z
LAST-MODIFIED:20240125T210256Z
UID:349-1726509600-1726516800@www.ursa.fi
SUMMARY:Komeetan kerhoilta
DESCRIPTION:Vapaamuotoinen kokoontuminen yhdistyksen kerhotilassa. Komeetan kirjasto on avoinna.
URL:https://www.kirkkonummenkomeetta.fi/event/komeetan-kerhoilta-33/
LOCATION:Kerhotila\, Volsintie 609 C\, Kirkkonummi\, 02400\, Finland
CATEGORIES:Komeetan kerho
END:VEVENT
BEGIN:VEVENT
DTSTART;TZID=Europe/Helsinki:20240909T180000
DTEND;TZID=Europe/Helsinki:20240909T200000
DTSTAMP:20260419T153847
CREATED:20240125T210256Z
LAST-MODIFIED:20240125T210256Z
UID:348-1725904800-1725912000@www.ursa.fi
SUMMARY:Komeetan kerhoilta
DESCRIPTION:Vapaamuotoinen kokoontuminen yhdistyksen kerhotilassa. Komeetan kirjasto on avoinna.
URL:https://www.kirkkonummenkomeetta.fi/event/komeetan-kerhoilta-32/
LOCATION:Kerhotila\, Volsintie 609 C\, Kirkkonummi\, 02400\, Finland
CATEGORIES:Komeetan kerho
END:VEVENT
BEGIN:VEVENT
DTSTART;TZID=Europe/Helsinki:20240902T180000
DTEND;TZID=Europe/Helsinki:20240902T200000
DTSTAMP:20260419T153847
CREATED:20240125T210256Z
LAST-MODIFIED:20240125T210256Z
UID:347-1725300000-1725307200@www.ursa.fi
SUMMARY:Komeetan kerhoilta
DESCRIPTION:Vapaamuotoinen kokoontuminen yhdistyksen kerhotilassa. Komeetan kirjasto on avoinna.
URL:https://www.kirkkonummenkomeetta.fi/event/komeetan-kerhoilta-31/
LOCATION:Kerhotila\, Volsintie 609 C\, Kirkkonummi\, 02400\, Finland
CATEGORIES:Komeetan kerho
END:VEVENT
BEGIN:VEVENT
DTSTART;TZID=Europe/Helsinki:20240826T180000
DTEND;TZID=Europe/Helsinki:20240826T200000
DTSTAMP:20260419T153847
CREATED:20240125T210241Z
LAST-MODIFIED:20240125T210241Z
UID:346-1724695200-1724702400@www.ursa.fi
SUMMARY:Komeetan kerhoilta
DESCRIPTION:Vapaamuotoinen kokoontuminen yhdistyksen kerhotilassa. Komeetan kirjasto on avoinna.
URL:https://www.kirkkonummenkomeetta.fi/event/komeetan-kerhoilta-30/
LOCATION:Kerhotila\, Volsintie 609 C\, Kirkkonummi\, 02400\, Finland
CATEGORIES:Komeetan kerho
END:VEVENT
BEGIN:VEVENT
DTSTART;TZID=Europe/Helsinki:20240819T180000
DTEND;TZID=Europe/Helsinki:20240819T200000
DTSTAMP:20260419T153847
CREATED:20240125T210241Z
LAST-MODIFIED:20240125T210241Z
UID:345-1724090400-1724097600@www.ursa.fi
SUMMARY:Komeetan kerhoilta
DESCRIPTION:Vapaamuotoinen kokoontuminen yhdistyksen kerhotilassa. Komeetan kirjasto on avoinna.
URL:https://www.kirkkonummenkomeetta.fi/event/komeetan-kerhoilta-29/
LOCATION:Kerhotila\, Volsintie 609 C\, Kirkkonummi\, 02400\, Finland
CATEGORIES:Komeetan kerho
END:VEVENT
BEGIN:VEVENT
DTSTART;TZID=Europe/Helsinki:20240812T180000
DTEND;TZID=Europe/Helsinki:20240812T200000
DTSTAMP:20260419T153847
CREATED:20240125T210241Z
LAST-MODIFIED:20240125T210241Z
UID:344-1723485600-1723492800@www.ursa.fi
SUMMARY:Komeetan kerhoilta
DESCRIPTION:Vapaamuotoinen kokoontuminen yhdistyksen kerhotilassa. Komeetan kirjasto on avoinna.
URL:https://www.kirkkonummenkomeetta.fi/event/komeetan-kerhoilta-28/
LOCATION:Kerhotila\, Volsintie 609 C\, Kirkkonummi\, 02400\, Finland
CATEGORIES:Komeetan kerho
END:VEVENT
BEGIN:VEVENT
DTSTART;TZID=Europe/Helsinki:20240805T180000
DTEND;TZID=Europe/Helsinki:20240805T200000
DTSTAMP:20260419T153847
CREATED:20240125T210241Z
LAST-MODIFIED:20240125T210241Z
UID:343-1722880800-1722888000@www.ursa.fi
SUMMARY:Komeetan kerhoilta
DESCRIPTION:Vapaamuotoinen kokoontuminen yhdistyksen kerhotilassa. Komeetan kirjasto on avoinna.
URL:https://www.kirkkonummenkomeetta.fi/event/komeetan-kerhoilta-27/
LOCATION:Kerhotila\, Volsintie 609 C\, Kirkkonummi\, 02400\, Finland
CATEGORIES:Komeetan kerho
END:VEVENT
BEGIN:VEVENT
DTSTART;TZID=Europe/Helsinki:20240729T180000
DTEND;TZID=Europe/Helsinki:20240729T200000
DTSTAMP:20260419T153847
CREATED:20240125T210241Z
LAST-MODIFIED:20240125T210241Z
UID:342-1722276000-1722283200@www.ursa.fi
SUMMARY:Komeetan kerhoilta
DESCRIPTION:Vapaamuotoinen kokoontuminen yhdistyksen kerhotilassa. Komeetan kirjasto on avoinna.
URL:https://www.kirkkonummenkomeetta.fi/event/komeetan-kerhoilta-26/
LOCATION:Kerhotila\, Volsintie 609 C\, Kirkkonummi\, 02400\, Finland
CATEGORIES:Komeetan kerho
END:VEVENT
BEGIN:VEVENT
DTSTART;TZID=Europe/Helsinki:20240722T180000
DTEND;TZID=Europe/Helsinki:20240722T200000
DTSTAMP:20260419T153847
CREATED:20240125T210226Z
LAST-MODIFIED:20240125T210226Z
UID:341-1721671200-1721678400@www.ursa.fi
SUMMARY:Komeetan kerhoilta
DESCRIPTION:Vapaamuotoinen kokoontuminen yhdistyksen kerhotilassa. Komeetan kirjasto on avoinna.
URL:https://www.kirkkonummenkomeetta.fi/event/komeetan-kerhoilta-25/
LOCATION:Kerhotila\, Volsintie 609 C\, Kirkkonummi\, 02400\, Finland
CATEGORIES:Komeetan kerho
END:VEVENT
BEGIN:VEVENT
DTSTART;TZID=Europe/Helsinki:20240715T180000
DTEND;TZID=Europe/Helsinki:20240715T200000
DTSTAMP:20260419T153847
CREATED:20240125T210226Z
LAST-MODIFIED:20240125T210226Z
UID:340-1721066400-1721073600@www.ursa.fi
SUMMARY:Komeetan kerhoilta
DESCRIPTION:Vapaamuotoinen kokoontuminen yhdistyksen kerhotilassa. Komeetan kirjasto on avoinna.
URL:https://www.kirkkonummenkomeetta.fi/event/komeetan-kerhoilta-24/
LOCATION:Kerhotila\, Volsintie 609 C\, Kirkkonummi\, 02400\, Finland
CATEGORIES:Komeetan kerho
END:VEVENT
BEGIN:VEVENT
DTSTART;TZID=Europe/Helsinki:20240708T180000
DTEND;TZID=Europe/Helsinki:20240708T200000
DTSTAMP:20260419T153847
CREATED:20240125T210226Z
LAST-MODIFIED:20240125T210226Z
UID:339-1720461600-1720468800@www.ursa.fi
SUMMARY:Komeetan kerhoilta
DESCRIPTION:Vapaamuotoinen kokoontuminen yhdistyksen kerhotilassa. Komeetan kirjasto on avoinna.
URL:https://www.kirkkonummenkomeetta.fi/event/komeetan-kerhoilta-23/
LOCATION:Kerhotila\, Volsintie 609 C\, Kirkkonummi\, 02400\, Finland
CATEGORIES:Komeetan kerho
END:VEVENT
BEGIN:VEVENT
DTSTART;TZID=Europe/Helsinki:20240701T180000
DTEND;TZID=Europe/Helsinki:20240701T200000
DTSTAMP:20260419T153847
CREATED:20240125T210226Z
LAST-MODIFIED:20240125T210226Z
UID:338-1719856800-1719864000@www.ursa.fi
SUMMARY:Komeetan kerhoilta
DESCRIPTION:Vapaamuotoinen kokoontuminen yhdistyksen kerhotilassa. Komeetan kirjasto on avoinna.
URL:https://www.kirkkonummenkomeetta.fi/event/komeetan-kerhoilta-22/
LOCATION:Kerhotila\, Volsintie 609 C\, Kirkkonummi\, 02400\, Finland
CATEGORIES:Komeetan kerho
END:VEVENT
BEGIN:VEVENT
DTSTART;TZID=Europe/Helsinki:20240624T180000
DTEND;TZID=Europe/Helsinki:20240624T200000
DTSTAMP:20260419T153847
CREATED:20240125T210226Z
LAST-MODIFIED:20240125T210226Z
UID:337-1719252000-1719259200@www.ursa.fi
SUMMARY:Komeetan kerhoilta
DESCRIPTION:Vapaamuotoinen kokoontuminen yhdistyksen kerhotilassa. Komeetan kirjasto on avoinna.
URL:https://www.kirkkonummenkomeetta.fi/event/komeetan-kerhoilta-21/
LOCATION:Kerhotila\, Volsintie 609 C\, Kirkkonummi\, 02400\, Finland
CATEGORIES:Komeetan kerho
END:VEVENT
BEGIN:VEVENT
DTSTART;TZID=Europe/Helsinki:20240617T180000
DTEND;TZID=Europe/Helsinki:20240617T200000
DTSTAMP:20260419T153847
CREATED:20240125T210212Z
LAST-MODIFIED:20240125T210212Z
UID:336-1718647200-1718654400@www.ursa.fi
SUMMARY:Komeetan kerhoilta
DESCRIPTION:Vapaamuotoinen kokoontuminen yhdistyksen kerhotilassa. Komeetan kirjasto on avoinna.
URL:https://www.kirkkonummenkomeetta.fi/event/komeetan-kerhoilta-20/
LOCATION:Kerhotila\, Volsintie 609 C\, Kirkkonummi\, 02400\, Finland
CATEGORIES:Komeetan kerho
END:VEVENT
BEGIN:VEVENT
DTSTART;TZID=Europe/Helsinki:20240610T180000
DTEND;TZID=Europe/Helsinki:20240610T200000
DTSTAMP:20260419T153847
CREATED:20240125T210212Z
LAST-MODIFIED:20240125T210212Z
UID:335-1718042400-1718049600@www.ursa.fi
SUMMARY:Komeetan kerhoilta
DESCRIPTION:Vapaamuotoinen kokoontuminen yhdistyksen kerhotilassa. Komeetan kirjasto on avoinna.
URL:https://www.kirkkonummenkomeetta.fi/event/komeetan-kerhoilta-19/
LOCATION:Kerhotila\, Volsintie 609 C\, Kirkkonummi\, 02400\, Finland
CATEGORIES:Komeetan kerho
END:VEVENT
BEGIN:VEVENT
DTSTART;TZID=Europe/Helsinki:20240603T180000
DTEND;TZID=Europe/Helsinki:20240603T200000
DTSTAMP:20260419T153847
CREATED:20240125T210212Z
LAST-MODIFIED:20240125T210212Z
UID:334-1717437600-1717444800@www.ursa.fi
SUMMARY:Komeetan kerhoilta
DESCRIPTION:Vapaamuotoinen kokoontuminen yhdistyksen kerhotilassa. Komeetan kirjasto on avoinna.
URL:https://www.kirkkonummenkomeetta.fi/event/komeetan-kerhoilta-18/
LOCATION:Kerhotila\, Volsintie 609 C\, Kirkkonummi\, 02400\, Finland
CATEGORIES:Komeetan kerho
END:VEVENT
BEGIN:VEVENT
DTSTART;TZID=Europe/Helsinki:20240527T180000
DTEND;TZID=Europe/Helsinki:20240527T200000
DTSTAMP:20260419T153847
CREATED:20240125T210212Z
LAST-MODIFIED:20240125T210212Z
UID:333-1716832800-1716840000@www.ursa.fi
SUMMARY:Komeetan kerhoilta
DESCRIPTION:Vapaamuotoinen kokoontuminen yhdistyksen kerhotilassa. Komeetan kirjasto on avoinna.
URL:https://www.kirkkonummenkomeetta.fi/event/komeetan-kerhoilta-17/
LOCATION:Kerhotila\, Volsintie 609 C\, Kirkkonummi\, 02400\, Finland
CATEGORIES:Komeetan kerho
END:VEVENT
BEGIN:VEVENT
DTSTART;TZID=Europe/Helsinki:20240521T180000
DTEND;TZID=Europe/Helsinki:20240521T200000
DTSTAMP:20260419T153847
CREATED:20240415T200159Z
LAST-MODIFIED:20240511T045530Z
UID:637-1716314400-1716321600@www.ursa.fi
SUMMARY:Esitelmä: Euroopan avaruusjärjestön Euclid-avaruusteleskooppi ja maailmankaikkeuden kartoitus
DESCRIPTION:Euclid on Euroopan avaruusjärjestön uusi laajakulmainen avaruusteleskooppi.  Se laukaistiin avaruuteen 1. heinäkuuta 2023. Euclidin kerralla näkemä alue on kaksi kertaa täydenkuun kokoinen;  sata kertaa suurempi kuin Hubble- ja Webb-avaruusteleskooppien.  Avaruusteleskooppina Euclid ottaa myös hyvin teräviä kuvia\, ilmakehä ei häiritse.  Yksittäisessä Euclidin ottamassa kuvassa on 600 miljoonaa pikseliä. \nEuclidin päätarkoitus on maailmankaikkeuden kartoitus yksittäisten kohteiden tutkimisen sijasta.  Euclid kartoittaa sekä pimeän aineen että näkyvien galaksien jakauman. Pimeän aineen havaitseminen perustuu gravitaatiolinssi-ilmiöön.  Kuudessa vuodessa Euclid kartoittaa yli kolmasosan taivaasta\, välttäen linnunradan ja eläinradan tasoa\, missä suunnissa kaukaisia galakseja on vaikeampi havaita.  Euclid tulee havaitsemaan yli miljardi galaksia ja kymmenien miljoonien galaksien spektrit.   Kaukaisimmat näistä galakseista nähdään yli 10 miljardin vuoden takana menneisyydessä. \nNäin Euclid kartoittaa myös maailmankaikkeuden kehityshistorian.  Ensisijaisena tavoitteena on selvittää niin sanottua pimeän energian kysymystä eli minkä takia maailmankaikkeuden laajeneminen kiihtyy.  Euclidin havaintoaineistoon sovitetaan sekä erilaisia pimeän energian malleja että erilaisia painovoimalain modifikaatioita kosmologisilla etäisyyksillä.  Ensimmäiset Euclidin ottamat kuvat on jo julkaistu. \nEuclidista ja sen merkityksestä kertoo Kosmologian professori Hannu Kurki-Suonio. \nLisätietoja esimerkiksi: Suomalaistutkijat mukana selvittämässä maailmankaikkeuden syntyä – teleskooppi kartoittaa avaruutta kuuden vuoden ajan | Tiede | Yle
URL:https://www.kirkkonummenkomeetta.fi/event/esitelma-euroopan-avaruusjarjeston-euclid-avaruusteleskooppi-ja-maailmankaikkeuden-kartoitus/
LOCATION:Fyyri-pääkirjaston Mörne-sali\, Kirkkotori 1\, Kirkkonummi\, 02400\, Finland
CATEGORIES:Esitelmä
ATTACH;FMTTYPE=image/jpeg:https://www.kirkkonummenkomeetta.fi/wp-content/uploads/sites/28/2024/04/Euclid_artist_impression_20190916_1_625-1-e1715398279201.jpg
END:VEVENT
BEGIN:VEVENT
DTSTART;TZID=Europe/Helsinki:20240520T180000
DTEND;TZID=Europe/Helsinki:20240520T200000
DTSTAMP:20260419T153847
CREATED:20240125T210211Z
LAST-MODIFIED:20240125T210211Z
UID:332-1716228000-1716235200@www.ursa.fi
SUMMARY:Komeetan kerhoilta
DESCRIPTION:Vapaamuotoinen kokoontuminen yhdistyksen kerhotilassa. Komeetan kirjasto on avoinna.
URL:https://www.kirkkonummenkomeetta.fi/event/komeetan-kerhoilta-16/
LOCATION:Kerhotila\, Volsintie 609 C\, Kirkkonummi\, 02400\, Finland
CATEGORIES:Komeetan kerho
END:VEVENT
BEGIN:VEVENT
DTSTART;TZID=Europe/Helsinki:20240513T180000
DTEND;TZID=Europe/Helsinki:20240513T200000
DTSTAMP:20260419T153847
CREATED:20240125T210205Z
LAST-MODIFIED:20240125T210205Z
UID:331-1715623200-1715630400@www.ursa.fi
SUMMARY:Komeetan kerhoilta
DESCRIPTION:Vapaamuotoinen kokoontuminen yhdistyksen kerhotilassa. Komeetan kirjasto on avoinna.
URL:https://www.kirkkonummenkomeetta.fi/event/komeetan-kerhoilta-15/
LOCATION:Kerhotila\, Volsintie 609 C\, Kirkkonummi\, 02400\, Finland
CATEGORIES:Komeetan kerho
END:VEVENT
BEGIN:VEVENT
DTSTART;TZID=Europe/Helsinki:20240506T180000
DTEND;TZID=Europe/Helsinki:20240506T200000
DTSTAMP:20260419T153847
CREATED:20240125T210205Z
LAST-MODIFIED:20240125T210205Z
UID:330-1715018400-1715025600@www.ursa.fi
SUMMARY:Komeetan kerhoilta
DESCRIPTION:Vapaamuotoinen kokoontuminen yhdistyksen kerhotilassa. Komeetan kirjasto on avoinna.
URL:https://www.kirkkonummenkomeetta.fi/event/komeetan-kerhoilta-14/
LOCATION:Kerhotila\, Volsintie 609 C\, Kirkkonummi\, 02400\, Finland
CATEGORIES:Komeetan kerho
END:VEVENT
BEGIN:VEVENT
DTSTART;TZID=Europe/Helsinki:20240429T180000
DTEND;TZID=Europe/Helsinki:20240429T200000
DTSTAMP:20260419T153847
CREATED:20240125T210204Z
LAST-MODIFIED:20240125T210204Z
UID:329-1714413600-1714420800@www.ursa.fi
SUMMARY:Komeetan kerhoilta
DESCRIPTION:Vapaamuotoinen kokoontuminen yhdistyksen kerhotilassa. Komeetan kirjasto on avoinna.
URL:https://www.kirkkonummenkomeetta.fi/event/komeetan-kerhoilta-13/
LOCATION:Kerhotila\, Volsintie 609 C\, Kirkkonummi\, 02400\, Finland
CATEGORIES:Komeetan kerho
END:VEVENT
BEGIN:VEVENT
DTSTART;TZID=Europe/Helsinki:20240422T180000
DTEND;TZID=Europe/Helsinki:20240422T200000
DTSTAMP:20260419T153847
CREATED:20240125T210204Z
LAST-MODIFIED:20240125T210204Z
UID:328-1713808800-1713816000@www.ursa.fi
SUMMARY:Komeetan kerhoilta
DESCRIPTION:Vapaamuotoinen kokoontuminen yhdistyksen kerhotilassa. Komeetan kirjasto on avoinna.
URL:https://www.kirkkonummenkomeetta.fi/event/komeetan-kerhoilta-12/
LOCATION:Kerhotila\, Volsintie 609 C\, Kirkkonummi\, 02400\, Finland
CATEGORIES:Komeetan kerho
END:VEVENT
BEGIN:VEVENT
DTSTART;TZID=Europe/Helsinki:20240415T180000
DTEND;TZID=Europe/Helsinki:20240415T200000
DTSTAMP:20260419T153847
CREATED:20240125T210204Z
LAST-MODIFIED:20240125T210204Z
UID:327-1713204000-1713211200@www.ursa.fi
SUMMARY:Komeetan kerhoilta
DESCRIPTION:Vapaamuotoinen kokoontuminen yhdistyksen kerhotilassa. Komeetan kirjasto on avoinna.
URL:https://www.kirkkonummenkomeetta.fi/event/komeetan-kerhoilta-11/
LOCATION:Kerhotila\, Volsintie 609 C\, Kirkkonummi\, 02400\, Finland
CATEGORIES:Komeetan kerho
END:VEVENT
BEGIN:VEVENT
DTSTART;TZID=Europe/Helsinki:20240409T180000
DTEND;TZID=Europe/Helsinki:20240409T200000
DTSTAMP:20260419T153847
CREATED:20240125T212710Z
LAST-MODIFIED:20240403T052342Z
UID:403-1712685600-1712692800@www.ursa.fi
SUMMARY:Esitelmä: Tähtien synty teleskoopeilla\, avaruusinstrumenteilla ja tietokoneella nähtynä
DESCRIPTION:Maailmankaikkeuden historia on myös tähtien synnyn historiaa. Galaksit ovat avaruuden rakenteen perusosasia\, ja ne voivat koostua sadoista miljardeista tähdistä. Omassa galaksissamme eli Linnunradassa useimmat tähdet ovat jo miljardien vuosien ikäisiä. Uusia tähtiä syntyy kuitenkin edelleen\, joskin aiempaa hitaammin\, syvällä tiheissä tähtienvälisissä pilvissä. \nEsitelmässä tutustutaan siihen\, miten tähtien syntyä tutkitaan vertaamalla maanpäällisillä teleskoopeilla ja avaruusinstrumenteilla tehtyjä havaintoja tietokonemallien antamiin ennusteisiin.
URL:https://www.kirkkonummenkomeetta.fi/event/esitelma-tahtien-synty/
LOCATION:Fyyri-pääkirjaston Mörne-sali\, Kirkkotori 1\, Kirkkonummi\, 02400\, Finland
CATEGORIES:Esitelmä
ATTACH;FMTTYPE=image/jpeg:https://www.kirkkonummenkomeetta.fi/wp-content/uploads/sites/28/2024/01/L1527_JWST-e1712121551463.jpg
END:VEVENT
BEGIN:VEVENT
DTSTART;TZID=Europe/Helsinki:20240408T180000
DTEND;TZID=Europe/Helsinki:20240408T200000
DTSTAMP:20260419T153847
CREATED:20240125T210148Z
LAST-MODIFIED:20240125T210148Z
UID:326-1712599200-1712606400@www.ursa.fi
SUMMARY:Komeetan kerhoilta
DESCRIPTION:Vapaamuotoinen kokoontuminen yhdistyksen kerhotilassa. Komeetan kirjasto on avoinna.
URL:https://www.kirkkonummenkomeetta.fi/event/komeetan-kerhoilta-10/
LOCATION:Kerhotila\, Volsintie 609 C\, Kirkkonummi\, 02400\, Finland
CATEGORIES:Komeetan kerho
END:VEVENT
BEGIN:VEVENT
DTSTART;TZID=Europe/Helsinki:20240401T180000
DTEND;TZID=Europe/Helsinki:20240401T200000
DTSTAMP:20260419T153847
CREATED:20240125T210148Z
LAST-MODIFIED:20240125T210148Z
UID:325-1711994400-1712001600@www.ursa.fi
SUMMARY:Komeetan kerhoilta
DESCRIPTION:Vapaamuotoinen kokoontuminen yhdistyksen kerhotilassa. Komeetan kirjasto on avoinna.
URL:https://www.kirkkonummenkomeetta.fi/event/komeetan-kerhoilta-9/
LOCATION:Kerhotila\, Volsintie 609 C\, Kirkkonummi\, 02400\, Finland
CATEGORIES:Komeetan kerho
END:VEVENT
BEGIN:VEVENT
DTSTART;TZID=Europe/Helsinki:20240331T200000
DTEND;TZID=Europe/Helsinki:20240331T220000
DTSTAMP:20260419T153847
CREATED:20240125T212442Z
LAST-MODIFIED:20240125T212442Z
UID:402-1711915200-1711922400@www.ursa.fi
SUMMARY:Tähtinäytäntö
DESCRIPTION:Tähtinäytäntö Komakallion tähtitornilla. Tutustumme yötaivaan kohteisiin yhdistyksen kaukoputkea apuna käyttäen. Vapaa pääsy. \nSäävaraus: täysin selkeä sää. \nAlkavasta näytöksestä tiedotetaan yhdistyksen sähköpostilistalla\, Facebook-sivulla sekä X-palvelussa vähintään tuntia ennen näytöksen alkua.
URL:https://www.kirkkonummenkomeetta.fi/event/tahtinaytanto-17/
LOCATION:Komakallion tähtitorni\, Bergvikintie 57\, Kirkkonummi\, 02400\, Finland
CATEGORIES:Tähtinäytös
END:VEVENT
END:VCALENDAR