BEGIN:VCALENDAR
VERSION:2.0
PRODID:-//Kirkkonummen Komeetta ry - ECPv6.15.17//NONSGML v1.0//EN
CALSCALE:GREGORIAN
METHOD:PUBLISH
X-ORIGINAL-URL:https://www.kirkkonummenkomeetta.fi
X-WR-CALDESC:Tapahtumat Kirkkonummen Komeetta ry
REFRESH-INTERVAL;VALUE=DURATION:PT1H
X-Robots-Tag:noindex
X-PUBLISHED-TTL:PT1H
BEGIN:VTIMEZONE
TZID:Europe/Helsinki
BEGIN:DAYLIGHT
TZOFFSETFROM:+0200
TZOFFSETTO:+0300
TZNAME:EEST
DTSTART:20230326T010000
END:DAYLIGHT
BEGIN:STANDARD
TZOFFSETFROM:+0300
TZOFFSETTO:+0200
TZNAME:EET
DTSTART:20231029T010000
END:STANDARD
BEGIN:DAYLIGHT
TZOFFSETFROM:+0200
TZOFFSETTO:+0300
TZNAME:EEST
DTSTART:20240331T010000
END:DAYLIGHT
BEGIN:STANDARD
TZOFFSETFROM:+0300
TZOFFSETTO:+0200
TZNAME:EET
DTSTART:20241027T010000
END:STANDARD
BEGIN:DAYLIGHT
TZOFFSETFROM:+0200
TZOFFSETTO:+0300
TZNAME:EEST
DTSTART:20250330T010000
END:DAYLIGHT
BEGIN:STANDARD
TZOFFSETFROM:+0300
TZOFFSETTO:+0200
TZNAME:EET
DTSTART:20251026T010000
END:STANDARD
END:VTIMEZONE
BEGIN:VEVENT
DTSTART;TZID=Europe/Helsinki:20240312T190000
DTEND;TZID=Europe/Helsinki:20240312T200000
DTSTAMP:20260419T195629
CREATED:20240228T191105Z
LAST-MODIFIED:20240228T191214Z
UID:551-1710270000-1710273600@www.ursa.fi
SUMMARY:Yhdistyksen kevätkokous
DESCRIPTION:Tähtitieteellinen yhdistys Kirkkonummen Komeetta ry:n sääntömääräinen kevätkokous pidetään tiistaina 12.3.2024 Kirkkonummen Fyyri-kirjaston Mörne-salissa heti Hannu Määttäsen esitelmän jälkeen (arvio n. klo 19). Kokouksessa käsitellään sääntöjen 6 § mukaiset asiat: \n\n\navataan kokous\,\nvalitaan kokoukselle puheenjohtaja\, sihteeri ja kaksi pöytäkirjan tarkastajaa\,\ntodetaan kokouksen laillisuus ja päätösvaltaisuus\,\nkäsitellään hallituksen toimintakertomus ja tilinpäätös\,\nkäsitellään toiminnantarkastajain kertomus yhdistyksen hallinnosta ja taloudenhoidosta edellisen toimintavuoden aikana\,\npäätetään edellisen toimintavuoden toimintakertomuksen ja tilinpäätöksen hyväksymisestä ja vastuuvapauden myöntämisestä hallitukselle ja muille tilivelvollisille\,\npäätetään hallituksen esityksistä sekä niistä jäsenten esittämistä asioista\, jotka on jätetty hallitukselle vähintään kolme viikkoa ennen kokousta.\nkäsitellään muut esille tulevat asiat.\npäätetään kokous\n\nToimintakertomus \nVuoden 2023 toimintakertomuksen voi ladata tästä linkistä: Kevätkokous toimintakertomus 2023.pdf.
URL:https://www.kirkkonummenkomeetta.fi/event/yhdistyksen-kevatkokous-2024/
LOCATION:Fyyri-pääkirjaston Mörne-sali\, Kirkkotori 1\, Kirkkonummi\, 02400\, Finland
END:VEVENT
BEGIN:VEVENT
DTSTART;TZID=Europe/Helsinki:20240312T180000
DTEND;TZID=Europe/Helsinki:20240312T200000
DTSTAMP:20260419T195629
CREATED:20240124T162938Z
LAST-MODIFIED:20240312T131954Z
UID:140-1710266400-1710273600@www.ursa.fi
SUMMARY:Esitelmä: Kauas on pitkä matka eli Voyager 1 ja 2
DESCRIPTION:Mariner-avaruusohjelma oli sarja Nasan luotaimia\, jotka lähetettiin tutkimaan aurinkokuntamme planeettoja vuosina 1962-77. Sarjan kaksi viimeistä edustajaa\, joihin tämä esitelmä keskittyy\, saivat nimen Voyager. Tutkittuaan uloimpia planeettoja Jupiterista Neptunukseen ne ohjattiin  kartoittamaan  tähtienvälistä avaruutta. Voyager 1 on kauimpana maapallosta sijaitseva ihmisen tekemä laite. Se jatkaa edelleen tutkimustyötään ja tietojen lähettämistä Maahan. \nAsiasta kertoo avaruuden ilmiöistä kiinnostunut ja tieteen historiaa harrastava Hannu Määttänen.
URL:https://www.kirkkonummenkomeetta.fi/event/esitelma-kauas-on-pitka-matka-eli-voyager-1-ja-2/
LOCATION:Fyyri-pääkirjaston Mörne-sali\, Kirkkotori 1\, Kirkkonummi\, 02400\, Finland
CATEGORIES:Esitelmä
ATTACH;FMTTYPE=image/png:https://www.kirkkonummenkomeetta.fi/wp-content/uploads/sites/28/2024/01/Voyager-1024x576-–-pieni-1.png
END:VEVENT
BEGIN:VEVENT
DTSTART;TZID=Europe/Helsinki:20240311T200000
DTEND;TZID=Europe/Helsinki:20240311T220000
DTSTAMP:20260419T195629
CREATED:20240125T212427Z
LAST-MODIFIED:20240125T212427Z
UID:397-1710187200-1710194400@www.ursa.fi
SUMMARY:Tähtinäytäntö
DESCRIPTION:Tähtinäytäntö Komakallion tähtitornilla. Tutustumme yötaivaan kohteisiin yhdistyksen kaukoputkea apuna käyttäen. Vapaa pääsy. \nSäävaraus: täysin selkeä sää. \nAlkavasta näytöksestä tiedotetaan yhdistyksen sähköpostilistalla\, Facebook-sivulla sekä X-palvelussa vähintään tuntia ennen näytöksen alkua.
URL:https://www.kirkkonummenkomeetta.fi/event/tahtinaytanto-12/
LOCATION:Komakallion tähtitorni\, Bergvikintie 57\, Kirkkonummi\, 02400\, Finland
CATEGORIES:Tähtinäytös
END:VEVENT
BEGIN:VEVENT
DTSTART;TZID=Europe/Helsinki:20240311T180000
DTEND;TZID=Europe/Helsinki:20240311T200000
DTSTAMP:20260419T195629
CREATED:20240125T210148Z
LAST-MODIFIED:20240125T210148Z
UID:322-1710180000-1710187200@www.ursa.fi
SUMMARY:Komeetan kerhoilta
DESCRIPTION:Vapaamuotoinen kokoontuminen yhdistyksen kerhotilassa. Komeetan kirjasto on avoinna.
URL:https://www.kirkkonummenkomeetta.fi/event/komeetan-kerhoilta-6/
LOCATION:Kerhotila\, Volsintie 609 C\, Kirkkonummi\, 02400\, Finland
CATEGORIES:Komeetan kerho
END:VEVENT
BEGIN:VEVENT
DTSTART;TZID=Europe/Helsinki:20240310T200000
DTEND;TZID=Europe/Helsinki:20240310T220000
DTSTAMP:20260419T195629
CREATED:20240125T212427Z
LAST-MODIFIED:20240125T212427Z
UID:396-1710100800-1710108000@www.ursa.fi
SUMMARY:Tähtinäytäntö
DESCRIPTION:Tähtinäytäntö Komakallion tähtitornilla. Tutustumme yötaivaan kohteisiin yhdistyksen kaukoputkea apuna käyttäen. Vapaa pääsy. \nSäävaraus: täysin selkeä sää. \nAlkavasta näytöksestä tiedotetaan yhdistyksen sähköpostilistalla\, Facebook-sivulla sekä X-palvelussa vähintään tuntia ennen näytöksen alkua.
URL:https://www.kirkkonummenkomeetta.fi/event/tahtinaytanto-11/
LOCATION:Komakallion tähtitorni\, Bergvikintie 57\, Kirkkonummi\, 02400\, Finland
CATEGORIES:Tähtinäytös
END:VEVENT
BEGIN:VEVENT
DTSTART;TZID=Europe/Helsinki:20240304T200000
DTEND;TZID=Europe/Helsinki:20240304T220000
DTSTAMP:20260419T195629
CREATED:20240125T212427Z
LAST-MODIFIED:20240125T212427Z
UID:395-1709582400-1709589600@www.ursa.fi
SUMMARY:Tähtinäytäntö
DESCRIPTION:Tähtinäytäntö Komakallion tähtitornilla. Tutustumme yötaivaan kohteisiin yhdistyksen kaukoputkea apuna käyttäen. Vapaa pääsy. \nSäävaraus: täysin selkeä sää. \nAlkavasta näytöksestä tiedotetaan yhdistyksen sähköpostilistalla\, Facebook-sivulla sekä X-palvelussa vähintään tuntia ennen näytöksen alkua.
URL:https://www.kirkkonummenkomeetta.fi/event/tahtinaytanto-10/
LOCATION:Komakallion tähtitorni\, Bergvikintie 57\, Kirkkonummi\, 02400\, Finland
CATEGORIES:Tähtinäytös
END:VEVENT
BEGIN:VEVENT
DTSTART;TZID=Europe/Helsinki:20240304T180000
DTEND;TZID=Europe/Helsinki:20240304T200000
DTSTAMP:20260419T195629
CREATED:20240125T210147Z
LAST-MODIFIED:20240125T210147Z
UID:321-1709575200-1709582400@www.ursa.fi
SUMMARY:Komeetan kerhoilta
DESCRIPTION:Vapaamuotoinen kokoontuminen yhdistyksen kerhotilassa. Komeetan kirjasto on avoinna.
URL:https://www.kirkkonummenkomeetta.fi/event/komeetan-kerhoilta-5/
LOCATION:Kerhotila\, Volsintie 609 C\, Kirkkonummi\, 02400\, Finland
CATEGORIES:Komeetan kerho
END:VEVENT
BEGIN:VEVENT
DTSTART;TZID=Europe/Helsinki:20240303T200000
DTEND;TZID=Europe/Helsinki:20240303T220000
DTSTAMP:20260419T195629
CREATED:20240125T212426Z
LAST-MODIFIED:20240125T212426Z
UID:394-1709496000-1709503200@www.ursa.fi
SUMMARY:Tähtinäytäntö
DESCRIPTION:Tähtinäytäntö Komakallion tähtitornilla. Tutustumme yötaivaan kohteisiin yhdistyksen kaukoputkea apuna käyttäen. Vapaa pääsy. \nSäävaraus: täysin selkeä sää. \nAlkavasta näytöksestä tiedotetaan yhdistyksen sähköpostilistalla\, Facebook-sivulla sekä X-palvelussa vähintään tuntia ennen näytöksen alkua.
URL:https://www.kirkkonummenkomeetta.fi/event/tahtinaytanto-9/
LOCATION:Komakallion tähtitorni\, Bergvikintie 57\, Kirkkonummi\, 02400\, Finland
CATEGORIES:Tähtinäytös
END:VEVENT
BEGIN:VEVENT
DTSTART;TZID=Europe/Helsinki:20240226T200000
DTEND;TZID=Europe/Helsinki:20240226T220000
DTSTAMP:20260419T195629
CREATED:20240125T212425Z
LAST-MODIFIED:20240125T212425Z
UID:393-1708977600-1708984800@www.ursa.fi
SUMMARY:Tähtinäytäntö
DESCRIPTION:Tähtinäytäntö Komakallion tähtitornilla. Tutustumme yötaivaan kohteisiin yhdistyksen kaukoputkea apuna käyttäen. Vapaa pääsy. \nSäävaraus: täysin selkeä sää. \nAlkavasta näytöksestä tiedotetaan yhdistyksen sähköpostilistalla\, Facebook-sivulla sekä X-palvelussa vähintään tuntia ennen näytöksen alkua.
URL:https://www.kirkkonummenkomeetta.fi/event/tahtinaytanto-8/
LOCATION:Komakallion tähtitorni\, Bergvikintie 57\, Kirkkonummi\, 02400\, Finland
CATEGORIES:Tähtinäytös
END:VEVENT
BEGIN:VEVENT
DTSTART;TZID=Europe/Helsinki:20240226T180000
DTEND;TZID=Europe/Helsinki:20240226T200000
DTSTAMP:20260419T195629
CREATED:20240125T204109Z
LAST-MODIFIED:20240125T210147Z
UID:305-1708970400-1708977600@www.ursa.fi
SUMMARY:Komeetan kerhoilta
DESCRIPTION:Vapaamuotoinen kokoontuminen yhdistyksen kerhotilassa. Komeetan kirjasto on avoinna.
URL:https://www.kirkkonummenkomeetta.fi/event/komeetan-kerhoilta-4/
LOCATION:Kerhotila\, Volsintie 609 C\, Kirkkonummi\, 02400\, Finland
CATEGORIES:Komeetan kerho
END:VEVENT
BEGIN:VEVENT
DTSTART;TZID=Europe/Helsinki:20240225T200000
DTEND;TZID=Europe/Helsinki:20240225T220000
DTSTAMP:20260419T195629
CREATED:20240125T212425Z
LAST-MODIFIED:20240125T212425Z
UID:392-1708891200-1708898400@www.ursa.fi
SUMMARY:Tähtinäytäntö
DESCRIPTION:Tähtinäytäntö Komakallion tähtitornilla. Tutustumme yötaivaan kohteisiin yhdistyksen kaukoputkea apuna käyttäen. Vapaa pääsy. \nSäävaraus: täysin selkeä sää. \nAlkavasta näytöksestä tiedotetaan yhdistyksen sähköpostilistalla\, Facebook-sivulla sekä X-palvelussa vähintään tuntia ennen näytöksen alkua.
URL:https://www.kirkkonummenkomeetta.fi/event/tahtinaytanto-7/
LOCATION:Komakallion tähtitorni\, Bergvikintie 57\, Kirkkonummi\, 02400\, Finland
CATEGORIES:Tähtinäytös
END:VEVENT
BEGIN:VEVENT
DTSTART;TZID=Europe/Helsinki:20240219T200000
DTEND;TZID=Europe/Helsinki:20240219T220000
DTSTAMP:20260419T195629
CREATED:20240125T212425Z
LAST-MODIFIED:20240125T212425Z
UID:391-1708372800-1708380000@www.ursa.fi
SUMMARY:Tähtinäytäntö
DESCRIPTION:Tähtinäytäntö Komakallion tähtitornilla. Tutustumme yötaivaan kohteisiin yhdistyksen kaukoputkea apuna käyttäen. Vapaa pääsy. \nSäävaraus: täysin selkeä sää. \nAlkavasta näytöksestä tiedotetaan yhdistyksen sähköpostilistalla\, Facebook-sivulla sekä X-palvelussa vähintään tuntia ennen näytöksen alkua.
URL:https://www.kirkkonummenkomeetta.fi/event/tahtinaytanto-6/
LOCATION:Komakallion tähtitorni\, Bergvikintie 57\, Kirkkonummi\, 02400\, Finland
CATEGORIES:Tähtinäytös
END:VEVENT
BEGIN:VEVENT
DTSTART;TZID=Europe/Helsinki:20240219T180000
DTEND;TZID=Europe/Helsinki:20240219T200000
DTSTAMP:20260419T195629
CREATED:20240125T204109Z
LAST-MODIFIED:20240125T210147Z
UID:304-1708365600-1708372800@www.ursa.fi
SUMMARY:Komeetan kerhoilta
DESCRIPTION:Vapaamuotoinen kokoontuminen yhdistyksen kerhotilassa. Komeetan kirjasto on avoinna.
URL:https://www.kirkkonummenkomeetta.fi/event/komeetan-kerhoilta-3/
LOCATION:Kerhotila\, Volsintie 609 C\, Kirkkonummi\, 02400\, Finland
CATEGORIES:Komeetan kerho
END:VEVENT
BEGIN:VEVENT
DTSTART;TZID=Europe/Helsinki:20240218T200000
DTEND;TZID=Europe/Helsinki:20240218T220000
DTSTAMP:20260419T195629
CREATED:20240125T212425Z
LAST-MODIFIED:20240125T212425Z
UID:390-1708286400-1708293600@www.ursa.fi
SUMMARY:Tähtinäytäntö
DESCRIPTION:Tähtinäytäntö Komakallion tähtitornilla. Tutustumme yötaivaan kohteisiin yhdistyksen kaukoputkea apuna käyttäen. Vapaa pääsy. \nSäävaraus: täysin selkeä sää. \nAlkavasta näytöksestä tiedotetaan yhdistyksen sähköpostilistalla\, Facebook-sivulla sekä X-palvelussa vähintään tuntia ennen näytöksen alkua.
URL:https://www.kirkkonummenkomeetta.fi/event/tahtinaytanto-5/
LOCATION:Komakallion tähtitorni\, Bergvikintie 57\, Kirkkonummi\, 02400\, Finland
CATEGORIES:Tähtinäytös
END:VEVENT
BEGIN:VEVENT
DTSTART;TZID=Europe/Helsinki:20240213T180000
DTEND;TZID=Europe/Helsinki:20240213T200000
DTSTAMP:20260419T195629
CREATED:20240121T155409Z
LAST-MODIFIED:20240208T212203Z
UID:107-1707847200-1707854400@www.ursa.fi
SUMMARY:Esitelmä: Usein kysyttyä revontulista – koska ja missä niitä voi nähdä
DESCRIPTION:Revontulten harrastus ja -valokuvaus on jo pitkään ollut maailmalla nousussa. Sosiaaliset mediat vauhdittavat ilmiötä\, sillä näyttävät otokset innostavat mukaan paljon uusia harrastajia. Aina ei tarvitse lähteä Lappiin saakka ihailemaan tätä ilmiötä\, bongaamaan pääsee hyvällä tuurilla myös Etelä-Suomessa. Koska revontulia voi nähdä? Mitkä tekijät vaikuttavat todennäköisyyteen? Mistä revontulet johtuvat? Kuinka revontulia valokuvataan? Sodankylän Geofysiikan Observatorion koordinaattori ja revontulivalokuvaaja Emma Bruus vastaa yleisimpiin revontuliin liittyviin kysymyksiin
URL:https://www.kirkkonummenkomeetta.fi/event/esitelma-usein-kysyttya-revontulista-koska-ja-missa-niita-voi-nahda/
LOCATION:Fyyri-pääkirjaston Mörne-sali\, Kirkkotori 1\, Kirkkonummi\, 02400\, Finland
CATEGORIES:Esitelmä
ATTACH;FMTTYPE=image/jpeg:https://www.kirkkonummenkomeetta.fi/wp-content/uploads/sites/28/2024/01/emma-e1707427315850.jpg
END:VEVENT
BEGIN:VEVENT
DTSTART;TZID=Europe/Helsinki:20240212T190000
DTEND;TZID=Europe/Helsinki:20240212T210000
DTSTAMP:20260419T195629
CREATED:20240125T211054Z
LAST-MODIFIED:20240125T212251Z
UID:369-1707764400-1707771600@www.ursa.fi
SUMMARY:Tähtinäytäntö
DESCRIPTION:Tähtinäytäntö Komakallion tähtitornilla. Tutustumme yötaivaan kohteisiin yhdistyksen kaukoputkea apuna käyttäen. Vapaa pääsy. \nSäävaraus: täysin selkeä sää. \nAlkavasta näytöksestä tiedotetaan yhdistyksen sähköpostilistalla\, Facebook-sivulla sekä X-palvelussa vähintään tuntia ennen näytöksen alkua.
URL:https://www.kirkkonummenkomeetta.fi/event/tahtinaytanto-2/
LOCATION:Komakallion tähtitorni\, Bergvikintie 57\, Kirkkonummi\, 02400\, Finland
CATEGORIES:Tähtinäytös
END:VEVENT
BEGIN:VEVENT
DTSTART;TZID=Europe/Helsinki:20240212T180000
DTEND;TZID=Europe/Helsinki:20240212T200000
DTSTAMP:20260419T195629
CREATED:20240125T204109Z
LAST-MODIFIED:20240125T210147Z
UID:303-1707760800-1707768000@www.ursa.fi
SUMMARY:Komeetan kerhoilta
DESCRIPTION:Vapaamuotoinen kokoontuminen yhdistyksen kerhotilassa. Komeetan kirjasto on avoinna.
URL:https://www.kirkkonummenkomeetta.fi/event/komeetan-kerhoilta-2/
LOCATION:Kerhotila\, Volsintie 609 C\, Kirkkonummi\, 02400\, Finland
CATEGORIES:Komeetan kerho
END:VEVENT
BEGIN:VEVENT
DTSTART;TZID=Europe/Helsinki:20240211T190000
DTEND;TZID=Europe/Helsinki:20240211T210000
DTSTAMP:20260419T195629
CREATED:20240125T212251Z
LAST-MODIFIED:20240125T212251Z
UID:386-1707678000-1707685200@www.ursa.fi
SUMMARY:Tähtinäytäntö
DESCRIPTION:Tähtinäytäntö Komakallion tähtitornilla. Tutustumme yötaivaan kohteisiin yhdistyksen kaukoputkea apuna käyttäen. Vapaa pääsy. \nSäävaraus: täysin selkeä sää. \nAlkavasta näytöksestä tiedotetaan yhdistyksen sähköpostilistalla\, Facebook-sivulla sekä X-palvelussa vähintään tuntia ennen näytöksen alkua.
URL:https://www.kirkkonummenkomeetta.fi/event/tahtinaytanto-4/
LOCATION:Komakallion tähtitorni\, Bergvikintie 57\, Kirkkonummi\, 02400\, Finland
CATEGORIES:Tähtinäytös
END:VEVENT
BEGIN:VEVENT
DTSTART;TZID=Europe/Helsinki:20240205T190000
DTEND;TZID=Europe/Helsinki:20240205T210000
DTSTAMP:20260419T195629
CREATED:20240125T211054Z
LAST-MODIFIED:20240125T212251Z
UID:368-1707159600-1707166800@www.ursa.fi
SUMMARY:Tähtinäytäntö
DESCRIPTION:Tähtinäytäntö Komakallion tähtitornilla. Tutustumme yötaivaan kohteisiin yhdistyksen kaukoputkea apuna käyttäen. Vapaa pääsy. \nSäävaraus: täysin selkeä sää. \nAlkavasta näytöksestä tiedotetaan yhdistyksen sähköpostilistalla\, Facebook-sivulla sekä X-palvelussa vähintään tuntia ennen näytöksen alkua.
URL:https://www.kirkkonummenkomeetta.fi/event/tahtinaytanto/
LOCATION:Komakallion tähtitorni\, Bergvikintie 57\, Kirkkonummi\, 02400\, Finland
CATEGORIES:Tähtinäytös
END:VEVENT
BEGIN:VEVENT
DTSTART;TZID=Europe/Helsinki:20240205T180000
DTEND;TZID=Europe/Helsinki:20240205T200000
DTSTAMP:20260419T195629
CREATED:20240125T204109Z
LAST-MODIFIED:20240125T210147Z
UID:302-1707156000-1707163200@www.ursa.fi
SUMMARY:Komeetan kerhoilta
DESCRIPTION:Vapaamuotoinen kokoontuminen yhdistyksen kerhotilassa. Komeetan kirjasto on avoinna.
URL:https://www.kirkkonummenkomeetta.fi/event/komeetan-kerhoilta/
LOCATION:Kerhotila\, Volsintie 609 C\, Kirkkonummi\, 02400\, Finland
CATEGORIES:Komeetan kerho
END:VEVENT
BEGIN:VEVENT
DTSTART;TZID=Europe/Helsinki:20240204T190000
DTEND;TZID=Europe/Helsinki:20240204T210000
DTSTAMP:20260419T195629
CREATED:20240125T212251Z
LAST-MODIFIED:20240125T212251Z
UID:384-1707073200-1707080400@www.ursa.fi
SUMMARY:Tähtinäytäntö
DESCRIPTION:Tähtinäytäntö Komakallion tähtitornilla. Tutustumme yötaivaan kohteisiin yhdistyksen kaukoputkea apuna käyttäen. Vapaa pääsy. \nSäävaraus: täysin selkeä sää. \nAlkavasta näytöksestä tiedotetaan yhdistyksen sähköpostilistalla\, Facebook-sivulla sekä X-palvelussa vähintään tuntia ennen näytöksen alkua.
URL:https://www.kirkkonummenkomeetta.fi/event/tahtinaytanto-3/
LOCATION:Komakallion tähtitorni\, Bergvikintie 57\, Kirkkonummi\, 02400\, Finland
CATEGORIES:Tähtinäytös
END:VEVENT
BEGIN:VEVENT
DTSTART;TZID=Europe/Helsinki:20240128T190000
DTEND;TZID=Europe/Helsinki:20240128T210000
DTSTAMP:20260419T195629
CREATED:20240121T154434Z
LAST-MODIFIED:20240121T161904Z
UID:99-1706468400-1706475600@www.ursa.fi
SUMMARY:Tähtinäytäntö
DESCRIPTION:Tähtinäytäntö Komakallion tähtitornilla. Tutustumme yötaivaan kohteisiin yhdistyksen kaukoputkea apuna käyttäen. Vapaa pääsy. \nSäävaraus: täysin selkeä sää
URL:https://www.kirkkonummenkomeetta.fi/event/tahtinaytanto-28-01-2024/
LOCATION:Komakallion tähtitorni\, Bergvikintie 57\, Kirkkonummi\, 02400\, Finland
CATEGORIES:Tähtinäytös
END:VEVENT
BEGIN:VEVENT
DTSTART;TZID=Europe/Helsinki:20240122T190000
DTEND;TZID=Europe/Helsinki:20240122T210000
DTSTAMP:20260419T195629
CREATED:20240121T154345Z
LAST-MODIFIED:20240121T161924Z
UID:95-1705950000-1705957200@www.ursa.fi
SUMMARY:Tähtinäytäntö
DESCRIPTION:Tähtinäytäntö Komakallion tähtitornilla. Tutustumme yötaivaan kohteisiin yhdistyksen kaukoputkea apuna käyttäen. Vapaa pääsy. \nSäävaraus: täysin selkeä sää
URL:https://www.kirkkonummenkomeetta.fi/event/tahtinaytanto-22-01-2024/
LOCATION:Komakallion tähtitorni\, Bergvikintie 57\, Kirkkonummi\, 02400\, Finland
CATEGORIES:Tähtinäytös
END:VEVENT
BEGIN:VEVENT
DTSTART;TZID=Europe/Helsinki:20240122T180000
DTEND;TZID=Europe/Helsinki:20240122T200000
DTSTAMP:20260419T195629
CREATED:20240121T161827Z
LAST-MODIFIED:20240125T205827Z
UID:123-1705946400-1705953600@www.ursa.fi
SUMMARY:Komeetan kerhoilta
DESCRIPTION:Vapaamuotoinen kokoontuminen yhdistyksen kerhotilassa. Komeetan kirjasto on avoinna.
URL:https://www.kirkkonummenkomeetta.fi/event/komeetan-kerhoilta-22-01-2024/
LOCATION:Kerhotila\, Volsintie 609 C\, Kirkkonummi\, 02400\, Finland
CATEGORIES:Komeetan kerho
END:VEVENT
END:VCALENDAR